BEGIN:VCALENDAR
VERSION:2.0
PRODID:Dia Internacional da Mulher - Evento: “Mulheres em Movimento” 
X-WR-CALNAME:Dia Internacional da Mulher - Evento: “Mulheres em Movimento
 ” 
X-WR-TIMEZONE:Europe/Lisbon
X-PUBLISHED-TTL:P1W
BEGIN:VTIMEZONE
TZID:Europe/Lisbon
X-LIC-LOCATION:Europe/Lisbon
END:VTIMEZONE
BEGIN:VEVENT
UID:69e7422c16161
DTSTART;VALUE=DATE:20260308
SEQUENCE:0
TRANSP:OPAQUE
DTEND;VALUE=DATE:20260309
SUMMARY:Dia Internacional da Mulher - Evento: “Mulheres em Movimento” 
CLASS:PUBLIC
DESCRIPTION:Junte-se a nós para um momento de bem-estar\, partilha e celeb
 ração.
X-MICROSOFT-CDO-ALLDAYEVENT:TRUE
DTSTAMP:20260421T092356Z
END:VEVENT
END:VCALENDAR