BEGIN:VCALENDAR
VERSION:2.0
PRODID:Festival de Vilar de Mouros 2025
X-WR-CALNAME:Festival de Vilar de Mouros 2025
X-WR-TIMEZONE:Europe/Lisbon
X-PUBLISHED-TTL:P1W
BEGIN:VTIMEZONE
TZID:Europe/Lisbon
X-LIC-LOCATION:Europe/Lisbon
END:VTIMEZONE
BEGIN:VEVENT
UID:69e7de4c7b8cb
DTSTART;VALUE=DATE:20250820
SEQUENCE:0
TRANSP:OPAQUE
DTEND;VALUE=DATE:20250821
SUMMARY:Festival de Vilar de Mouros 2025
CLASS:PUBLIC
DESCRIPTION:Organização: Surprise &amp\; Expectation\; C.M. Caminha\, J.F
 . Vilar de Mouros
X-MICROSOFT-CDO-ALLDAYEVENT:TRUE
DTSTAMP:20260421T203004Z
END:VEVENT
END:VCALENDAR